BEGIN:VCALENDAR
VERSION:2.0
PRODID:-//wp-events-plugin.com//7.2.3.1//EN
BEGIN:VEVENT
UID:19@erredipi.ch
DTSTART;TZID=Europe/Zurich:20260512T201500
DTEND;TZID=Europe/Zurich:20260512T213000
DTSTAMP:20260404T120008Z
URL:https://erredipi.ch/partecipa-anche-tu/incontri-informativi/assemblea-
 ordinaria-erredipi/
SUMMARY:Assemblea ordinaria ErreDiPi
DESCRIPTION:(l'ordine del giorno arriverà...)
LOCATION:Liceo di Bellinzona\, Via Francesco Chiesa 2\, Bellinzona\, 6500\,
  Svizzera
GEO:46.19687;9.014017
X-APPLE-STRUCTURED-LOCATION;VALUE=URI;X-ADDRESS=Via Francesco Chiesa 2\, Be
 llinzona\, 6500\, Svizzera;X-APPLE-RADIUS=100;X-TITLE=Liceo di Bellinzona:
 geo:46.19687,9.014017
END:VEVENT
BEGIN:VTIMEZONE
TZID:Europe/Zurich
X-LIC-LOCATION:Europe/Zurich
BEGIN:DAYLIGHT
DTSTART:20260329T030000
TZOFFSETFROM:+0100
TZOFFSETTO:+0200
TZNAME:CEST
END:DAYLIGHT
END:VTIMEZONE
END:VCALENDAR