BEGIN:VCALENDAR
VERSION:2.0
PRODID:-//wp-events-plugin.com//7.2.3.1//EN
BEGIN:VEVENT
UID:18@erredipi.ch
DTSTART;TZID=Europe/Zurich:20260421T201500
DTEND;TZID=Europe/Zurich:20260421T213000
DTSTAMP:20260401T114907Z
URL:https://erredipi.ch/partecipa-anche-tu/incontri-informativi/assemblea-
 cantonale-delle-dei-docenti-del-settore-medio/
SUMMARY:Assemblea cantonale  delle/dei docenti del settore medio
DESCRIPTION:Invito a assemblea settore medio_ATIS_RDP_MDS_VERIFICHE_finale\
 nErreDiPi\, insieme alle associazioni magistrali Atis\, Movimento della Sc
 uola e Verifiche\, organizza un'assemblea delle docenti e dei docenti del 
 settore medio.\n\nDiscuteremo di:\n\n\n 	problematiche socio-affettive\, b
 isogni specifici dell’apprendimento\, situazioni di fragilità: come pas
 sare da una logica di risorse straordinarie\, per rispondere a bisogni pun
 tuali (come l’attivazione di ore OPI e ore casi difficili) a una logica 
 di risorse ordinarie\, strutturalmente presenti all’interno della sede s
 colastica\, pronte a rispondere in modo tempestivo e continuativo alle nec
 essità degli allievi?\n\n\n\n\n 	riforme e sperimentazioni: come concepir
 le in modo più trasparente e partecipativo?\n\n\n\n\n 	libertà didattica
 : come difenderla?\n\n\n\n\n 	procedure di concorso e assegnazione degli i
 ncarichi e delle nomine: come renderle più trasparenti?\n\n
LOCATION:Scuola media di Bellinzona 1\, Via Vincenzo Vela 28\, Bellinzona\,
  6500\, Svizzera
GEO:46.19704;9.020485
X-APPLE-STRUCTURED-LOCATION;VALUE=URI;X-ADDRESS=Via Vincenzo Vela 28\, Bell
 inzona\, 6500\, Svizzera;X-APPLE-RADIUS=100;X-TITLE=Scuola media di Bellin
 zona 1:geo:46.19704,9.020485
END:VEVENT
BEGIN:VTIMEZONE
TZID:Europe/Zurich
X-LIC-LOCATION:Europe/Zurich
BEGIN:DAYLIGHT
DTSTART:20260329T030000
TZOFFSETFROM:+0100
TZOFFSETTO:+0200
TZNAME:CEST
END:DAYLIGHT
END:VTIMEZONE
END:VCALENDAR